BEGIN:VCALENDAR
VERSION:2.0
PRODID:-//Rights Advocacy Project - ECPv4.9.14//NONSGML v1.0//EN
CALSCALE:GREGORIAN
METHOD:PUBLISH
X-WR-CALNAME:Rights Advocacy Project
X-ORIGINAL-URL:https://libertyvic.rightsadvocacy.org.au
X-WR-CALDESC:Events for Rights Advocacy Project
BEGIN:VTIMEZONE
TZID:Europe/Paris
BEGIN:DAYLIGHT
TZOFFSETFROM:+0100
TZOFFSETTO:+0200
TZNAME:CEST
DTSTART:20170326T010000
END:DAYLIGHT
BEGIN:STANDARD
TZOFFSETFROM:+0200
TZOFFSETTO:+0100
TZNAME:CET
DTSTART:20171029T010000
END:STANDARD
END:VTIMEZONE
BEGIN:VEVENT
DTSTART;TZID=Europe/Paris:20170517T173000
DTEND;TZID=Europe/Paris:20170517T190000
DTSTAMP:20210226T071949
CREATED:20170401T194810Z
LAST-MODIFIED:20170411T104123Z
UID:1277-1495042200-1495047600@libertyvic.rightsadvocacy.org.au
SUMMARY:When does the past stop catching up with you?
DESCRIPTION:‘Do I need to disclose my criminal conviction?’ With Victoria Police processing over 690\,000 criminal history checks in the 2015-16 financial year\, this is a question that many Victorians will need to ask themselves at some stage in their lives. Unfortunately\, the answer is not so straightforward. \nCurrently\, Victoria is the only Australian jurisdiction without a legislated spent convictions scheme. Rather\, the release of a person’s criminal history is governed by Victoria Police’s Information Release Policy. This Policy is not consistent with the existing spent convictions schemes in other states and territories\, and places Victorians at a significant disadvantage. Chiefly\, the Policy does not distinguish between sentences imposed with conviction and those imposed without conviction\, nor does it prevent the disclosure of charges for which a person is yet to be found guilty. \nThe stigma of a criminal record can impact a person more than a sentence itself\, and can filter into all aspects of their lives; it can restrict their employment and volunteering opportunities\, and ability to obtain licences and insurance. \nRegister for tickets now \nGiven the increasing prominence that criminal history checks are assuming in the context of employment\, the panel discussion aims to revive the conversation about desirability of legislating a spent convictions scheme in Victoria. \nThe panel will be made up of distinguished academics\, politicians and legal practitioners\, who will consider: \n\nthe current framework governing the disclosure of a person’s criminal history;\nthe nature of discrimination on the basis of a criminal record;\nthe human rights implications of the current framework\, particularly with reference to the Charter of Human Rights and Responsibilities Act 2006 (Vic); and\noptions for reform\, including the advantages and disadvantages of a legislated spent convictions scheme.\n\nAudience members will be encouraged to ask questions during the Q&A. \n
URL:https://libertyvic.rightsadvocacy.org.au/event/when-does-the-past-stop-catching-up-with-you/
LOCATION:The College of Law Victoria\, Level 6 459 Little Collins Street \, Melbourne\, Victoria\, 3000\, Australia
ATTACH;FMTTYPE=image/jpeg:https://libertyvic.rightsadvocacy.org.au/wp-content/uploads/2017/04/envelope-1803662_1920.jpg
END:VEVENT
END:VCALENDAR