BEGIN:VCALENDAR
VERSION:2.0
PRODID:-//Rights Advocacy Project - ECPv4.9.14//NONSGML v1.0//EN
CALSCALE:GREGORIAN
METHOD:PUBLISH
X-WR-CALNAME:Rights Advocacy Project
X-ORIGINAL-URL:https://libertyvic.rightsadvocacy.org.au
X-WR-CALDESC:Events for Rights Advocacy Project
BEGIN:VTIMEZONE
TZID:Europe/Paris
BEGIN:DAYLIGHT
TZOFFSETFROM:+0100
TZOFFSETTO:+0200
TZNAME:CEST
DTSTART:20170326T010000
END:DAYLIGHT
BEGIN:STANDARD
TZOFFSETFROM:+0200
TZOFFSETTO:+0100
TZNAME:CET
DTSTART:20171029T010000
END:STANDARD
END:VTIMEZONE
BEGIN:VEVENT
DTSTART;TZID=Europe/Paris:20170825T180000
DTEND;TZID=Europe/Paris:20170825T210000
DTSTAMP:20210226T071911
CREATED:20170805T070450Z
LAST-MODIFIED:20170805T070456Z
UID:1643-1503684000-1503694800@libertyvic.rightsadvocacy.org.au
SUMMARY:Trivia 2017!
DESCRIPTION:**SOLD OUT** \nDust off your encyclopedias and get your competitive spirits flowing because after a sell-out success last year\, RAP trivia is back for 2017! \nMichael Shafar will provide the laughs\, we’ll provide the food and Melbourne City Bowls Club will provide the drinks at 1970s prices. \nWe’ll be sizzling sausages out the front from 6pm and kicking off with the questions around 6:30pm. \nYou can book a table of 10 for $300 or an individual ticket for $30. We’ll have prizes up for grabs on the night as well as many exciiting silent auction items to bid on! \nAll money raised goes to contining our work holding power* to account. \n*Dutton\, mostly holding Dutton to account. \nTickets here \n
URL:https://libertyvic.rightsadvocacy.org.au/event/trivia-2017/
LOCATION:Melbourne City Bowls Club\, Flagstaff Gardens\, Dudley Street\, West Melbourne\, Victoria\, 3003\, Australia
ATTACH;FMTTYPE=image/jpeg:https://libertyvic.rightsadvocacy.org.au/wp-content/uploads/2017/03/RAP-header.jpg
END:VEVENT
END:VCALENDAR