BEGIN:VCALENDAR
VERSION:2.0
PRODID:-//Rights Advocacy Project - ECPv4.9.14//NONSGML v1.0//EN
CALSCALE:GREGORIAN
METHOD:PUBLISH
X-WR-CALNAME:Rights Advocacy Project
X-ORIGINAL-URL:https://libertyvic.rightsadvocacy.org.au
X-WR-CALDESC:Events for Rights Advocacy Project
BEGIN:VTIMEZONE
TZID:Europe/Paris
BEGIN:DAYLIGHT
TZOFFSETFROM:+0100
TZOFFSETTO:+0200
TZNAME:CEST
DTSTART:20180325T010000
END:DAYLIGHT
BEGIN:STANDARD
TZOFFSETFROM:+0200
TZOFFSETTO:+0100
TZNAME:CET
DTSTART:20181028T010000
END:STANDARD
END:VTIMEZONE
BEGIN:VEVENT
DTSTART;TZID=Europe/Paris:20180824T180000
DTEND;TZID=Europe/Paris:20180824T223000
DTSTAMP:20210226T071844
CREATED:20180722T133317Z
LAST-MODIFIED:20180725T021228Z
UID:1935-1535133600-1535149800@libertyvic.rightsadvocacy.org.au
SUMMARY:Trivia Fundraiser 2018
DESCRIPTION: \nAfter two sell-out years\, RAP’s annual trivia night is going BIG! We’ve hired the Fitzroy Town Hall. We’re running our own bar. We’ll be flanked by two food trucks – Man I Love Felafel and Curry Up! And\, we’ve got the excellent Geraldine Hickey from Triple R’s Breakfasters to host the thing! \nSo if you’re generally knowledgable* and want to live in a society that protects human rights this is the evening for you! \nPlus\, a silent auction featuring\, a signed Courtney Barnett record\, a voucher for Mountain Goat Brewery\, a Kuwaii dress\, a voucher to Sunda restaurant and much\, much\, much more! \nDrinks and (vego and vegan-friendly) food from 6pm.\nTrivia from 7pm until about 10pm \nTickets $30 ($25 Concession) or $260 for a table of 10.  \nAll money raised goes towards RAP’s year-long program which trains the next generation of human rights advocates. \nWe acknowledge that this event will take place on the stolen land of the Wurundjeri people of the Kulin nations. We pay our respect to elders past and present\, and acknowledge that sovereignty was never ceded. \n*Or not\, we really don’t mind\, \n
URL:https://libertyvic.rightsadvocacy.org.au/event/raps-2018-trivia-night/
LOCATION:Fitzroy Town Hall\, 201 Napier St\, Fitzroy\, 3065\, Australia
END:VEVENT
END:VCALENDAR