BEGIN:VCALENDAR
VERSION:2.0
PRODID:-//Rights Advocacy Project - ECPv4.9.14//NONSGML v1.0//EN
CALSCALE:GREGORIAN
METHOD:PUBLISH
X-WR-CALNAME:Rights Advocacy Project
X-ORIGINAL-URL:https://libertyvic.rightsadvocacy.org.au
X-WR-CALDESC:Events for Rights Advocacy Project
BEGIN:VTIMEZONE
TZID:UTC
BEGIN:STANDARD
TZOFFSETFROM:+0000
TZOFFSETTO:+0000
TZNAME:UTC
DTSTART:20150101T000000
END:STANDARD
END:VTIMEZONE
BEGIN:VEVENT
DTSTART;TZID=UTC:20150205T170000
DTEND;TZID=UTC:20150205T200000
DTSTAMP:20210226T072410
CREATED:20150204T183515Z
LAST-MODIFIED:20170401T193608Z
UID:1270-1423155600-1423166400@libertyvic.rightsadvocacy.org.au
SUMMARY:No Pacific Solution
DESCRIPTION:LGBTQIA people seeking refuge in Australia face a unique set of issues. Among them is the horror of fleeing sexuality-based persecution only to be mandatorily resettled in a country that criminalises homosexuality. \nAt this Midsumma event we gathered a panel of leading advocates and experts to discuss issues facing LGBTQI asylum seekers.  Our speakers were: \nDame Carol Kidu\, former PNG Minister for Community Development\, who holds the Sir Ebia Olewale Chair of PNG Studies at Deakin University. \nKristen Walker SC\, a senior barrister with extensive experience in human rights and refugee law. Kristen is also an Associate Professor at the University of Melbourne and has taught gender\, sexuality and international human rights law at Columbia University. \nSenthorun Raj\, an LGBTI advocate and doctoral student at Sydney Law School. Sen has been awarded the Australian Lesbian & Gay Archives Thesis Prize for his research on sexual orientation asylum claims and recently completed a Churchill Fellowship on this issue. \n
URL:https://libertyvic.rightsadvocacy.org.au/event/no-pacific-solution/
LOCATION:Northcote Town Hall\, 189 High St\, Northcote\, Victoria\, 3070\, Australia
ATTACH;FMTTYPE=image/jpeg:https://libertyvic.rightsadvocacy.org.au/wp-content/uploads/2017/04/1150880_712459305510898_2037174367481794268_n.jpg
END:VEVENT
END:VCALENDAR