BEGIN:VCALENDAR
VERSION:2.0
PRODID:-//Rights Advocacy Project - ECPv4.9.14//NONSGML v1.0//EN
CALSCALE:GREGORIAN
METHOD:PUBLISH
X-WR-CALNAME:Rights Advocacy Project
X-ORIGINAL-URL:https://libertyvic.rightsadvocacy.org.au
X-WR-CALDESC:Events for Rights Advocacy Project
BEGIN:VTIMEZONE
TZID:Europe/Paris
BEGIN:DAYLIGHT
TZOFFSETFROM:+0100
TZOFFSETTO:+0200
TZNAME:CEST
DTSTART:20180325T010000
END:DAYLIGHT
BEGIN:STANDARD
TZOFFSETFROM:+0200
TZOFFSETTO:+0100
TZNAME:CET
DTSTART:20181028T010000
END:STANDARD
END:VTIMEZONE
BEGIN:VEVENT
DTSTART;TZID=Europe/Paris:20180517T180000
DTEND;TZID=Europe/Paris:20180517T200000
DTSTAMP:20210226T071858
CREATED:20180506T080905Z
LAST-MODIFIED:20180507T211853Z
UID:1815-1526580000-1526587200@libertyvic.rightsadvocacy.org.au
SUMMARY:Justice diverted? Prosecutorial discretion and the use of diversion schemes in Victoria
DESCRIPTION:Diversion programs are theoretically available to all Victorians facing their first minor criminal charge where their offending is out of character. These programs give people the opportunity to avoid a criminal record\, participate in rehabilitative programs\, provide reparation to any victims\, contribute to the community and reduce the likelihood of reoffending. However\, a key barrier to vulnerable individuals being accepted into these programs is the requirement for the prosecution to consent. \nVictoria Police informants and prosecutors hold absolute discretion when deciding whether or not to recommend an accused for participation in one of these programs. Their decision to refuse is not reviewable by the Court. Without appropriate guidance or oversight\, individual police officers can adopt idiosyncratic and inconsistent decision-making practices vulnerable to bias and prejudice. This has a detrimental impact upon minority groups\, including Aboriginal and Torres Strait Islander communities and people of colour\, who are already disproportionately represented in the criminal justice system and stand to benefit most from participation in diversion programs. \n \nFollowing research and consultations with key stakeholders over the past 12 months\, RAP has concluded that clear guidelines and judicial oversight are necessary to ensure transparency and accountability in this process. In this way\, principles of natural justice can best be upheld and the accused’s rights under Victoria’s Charter of Human Rights and Responsibilities protected. \nJoin us as we launch our report ‘Justice Diverted? Prosecutorial discretion and the use of diversion schemes in Victoria’. Copies of the report will be available on the night. \nThe night will include a panel discussion featuring key stakeholders on the benefits and challenges of the programs and opportunities for reform. \nAudience members will be encouraged to ask questions during the Q&A. \nThe event is free\, but registrations are essential. \n
URL:https://libertyvic.rightsadvocacy.org.au/event/justice-diverted-prosecutorial-discretion-use-diversion-schemes-victoria/
LOCATION:Multicultural Hub\, 506 Elizabeth Street\, Melbourne\, VIC\, 3001\, Australia
END:VEVENT
END:VCALENDAR