BEGIN:VCALENDAR
VERSION:2.0
PRODID:-//Rights Advocacy Project - ECPv4.9.14//NONSGML v1.0//EN
CALSCALE:GREGORIAN
METHOD:PUBLISH
X-WR-CALNAME:Rights Advocacy Project
X-ORIGINAL-URL:https://libertyvic.rightsadvocacy.org.au
X-WR-CALDESC:Events for Rights Advocacy Project
BEGIN:VTIMEZONE
TZID:UTC
BEGIN:STANDARD
TZOFFSETFROM:+0000
TZOFFSETTO:+0000
TZNAME:UTC
DTSTART:20130101T000000
END:STANDARD
END:VTIMEZONE
BEGIN:VEVENT
DTSTART;TZID=UTC:20130904T170000
DTEND;TZID=UTC:20130904T190000
DTSTAMP:20210226T072424
CREATED:20170401T194006Z
LAST-MODIFIED:20170401T194006Z
UID:1274-1378314000-1378321200@libertyvic.rightsadvocacy.org.au
SUMMARY:Humane\, practical and effective: a dialogue on alternative asylum seeker policies
DESCRIPTION:Australia’s asylum seeker policies have long been the subject of deep criticism. With this panel event\, we wanted to discuss the problems but also open up a positive dialogue about practical\, humane solutions.  Our speakers were:\n\nJessie Taylor\, a member of the Victorian Bar and co-writer and producer of the films ‘We Will Be Remembered For This’ (2007) and ‘Between the Devil and the Deep Blue Sea’ (2011). \nDr Savitri Taylor\, an academic at La Trobe University in Melbourne. Savitri is also a member of the Management Committee of the Refugee and Immigration Legal Centre and a member of the Asia Pacific Refugee Rights Network.  \nDr Anne McNevin\, a researcher in the area of Critical International Relations\, Political Theory\, and Migration Studies. Anne is associate editor of the journal Citizenship Studies and currently chairs the Forced Migration Research Hub\, a network of scholars working on forced migration issues in the Asia-Pacific. \n
URL:https://libertyvic.rightsadvocacy.org.au/event/humane-practical-and-effective-a-dialogue-on-alternative-asylum-seeker-policies/
ATTACH;FMTTYPE=image/jpeg:https://libertyvic.rightsadvocacy.org.au/wp-content/uploads/2017/04/manus-tents.jpg
END:VEVENT
END:VCALENDAR