BEGIN:VCALENDAR
VERSION:2.0
PRODID:-//Rights Advocacy Project - ECPv4.9.14//NONSGML v1.0//EN
CALSCALE:GREGORIAN
METHOD:PUBLISH
X-WR-CALNAME:Rights Advocacy Project
X-ORIGINAL-URL:https://libertyvic.rightsadvocacy.org.au
X-WR-CALDESC:Events for Rights Advocacy Project
BEGIN:VTIMEZONE
TZID:Europe/Paris
BEGIN:DAYLIGHT
TZOFFSETFROM:+0100
TZOFFSETTO:+0200
TZNAME:CEST
DTSTART:20170326T010000
END:DAYLIGHT
BEGIN:STANDARD
TZOFFSETFROM:+0200
TZOFFSETTO:+0100
TZNAME:CET
DTSTART:20171029T010000
END:STANDARD
END:VTIMEZONE
BEGIN:VEVENT
DTSTART;TZID=Europe/Paris:20170629T183000
DTEND;TZID=Europe/Paris:20170629T203000
DTSTAMP:20210226T071922
CREATED:20170608T031134Z
LAST-MODIFIED:20170621T002822Z
UID:1581-1498761000-1498768200@libertyvic.rightsadvocacy.org.au
SUMMARY:Film fundraiser: Complicit
DESCRIPTION:\nLiberty Victoria and Rights Advocacy Project invite you a screening of Complicit\n\n\n**SPEAKER UPDATE** \nThe Human Rights Law Centre’s Keren Adams will be joining us to share her insights into corporate accountability.  Keren has litigated landmark cases in the UK holding multinational corporations to account and now heads up the HRLC’s work on business and human rights. \nShot undercover\, Complicit follows the journey of factory migrant worker-turned-activist Yi Yeting\, who takes on the global electronic industry and its blatant disregard for workers’ rights. \nBattling occupation-induced leukaemia\,  Yeting teaches himself labour law in order to prepare a legal challenge against his former employers who exposed him and thousands of other to poisonous chemicals. The film follows Yeting’s journey and provides new insights into the horrific human rights abuses in global supply chains. The film paints a damning portrait of business and human rights\, but it is also a call to arms and a story of a movement fighting back. \nAll money raised from the screening will go to Liberty Victoria and Rights Advocacy Project\, to support their work in protecting human rights in Australia. \nSpeaker to be announced.\n\n\nTickets are $24 for the film or $30 for the film + a candy bar voucher for either popcorn + a choc top\, or popcorn + a soft drink. Book here before tickets sell out: trybooking.com/QNPA\n
URL:https://libertyvic.rightsadvocacy.org.au/event/film-fundraiser-australian-premiere-of-complicit/
LOCATION:Nova Cinema\, 380 Lygon Street\, Carlton \, Victoria\, 3053\, Australia
ATTACH;FMTTYPE=image/jpeg:https://libertyvic.rightsadvocacy.org.au/wp-content/uploads/2017/06/Complicit-YYT-posterphoto-e1496915946866.jpg
END:VEVENT
END:VCALENDAR